BEGIN:VCALENDAR
VERSION:2.0
PRODID:icalendar-ruby
CALSCALE:GREGORIAN
METHOD:PUBLISH
BEGIN:VEVENT
DTSTAMP:20260421T162151Z
UID:7f35a5e5-fe86-47df-8d1f-53b795e8b4de
DTSTART:20241205T190000
DTEND:20241205T220000
DESCRIPTION:<p>EFC Contender Series VIP invitation request. The EFC Contend
 er Series bouts are taking place at The EFC Performance Institute in Johan
 nesburg\, South Africa in a private production facility. Please note that 
 EFC <span>Contender Series</span> is not a public event and invitations to
  be part of the private production are limited and reserved.</p><p>If you 
 do not receive an official invitation to attend EFC <span>Contender Series
 </span> as a guest within 72 hours of purchasing your EFC <span>Contender 
 Series</span> VIP invitation request you will be refunded your purchase in
  full.</p><p>Access to the private production is reserved and limited to E
 FC guests\, EFC media\, the EFC production team\, EFC athletes\, EFC partn
 ers and EFC Invested shareholders.<span style="background-color: rgb(255\,
  255\, 255)\; color: rgb(34\, 34\, 34)\;"> </span></p><p><br></p><p>Conta
 ct: <a href="mailto:info@efcworldwide.com" target="_blank" style="color: 
 rgb(17\, 85\, 204)\;">info@efcworldwide.com</a></p><p>Website: <a href="h
 ttp://www.efcworldwide.com/" target="_blank" style="color: rgb(17\, 85\, 2
 04)\;">www.efcworldwide.com</a></p><p><br></p><p><span style="background-c
 olor: rgb(255\, 255\, 255)\; color: rgb(34\, 34\, 34)\;">*Fight card subje
 ct to change</span></p>
LOCATION:Unit 5 Cambridge Comercial Park\, 22 Witkoppen Rd\, Paulshof\, San
 dton\, 2191
SUMMARY:EFC Contender Series
URL;VALUE=URI:https://efc.howler.co.za/efccontenderseries
END:VEVENT
END:VCALENDAR
