BEGIN:VCALENDAR
VERSION:2.0
PRODID:icalendar-ruby
CALSCALE:GREGORIAN
METHOD:PUBLISH
BEGIN:VEVENT
DTSTAMP:20260421T211638Z
UID:c936de25-3008-45a0-b0af-d8da9faca5f2
DTSTART:20220409T130000
DTEND:20220409T210000
DESCRIPTION:<p><span style="color: rgb(34\, 34\, 34)\; background-color: rg
 b(255\, 255\, 255)\;">Martin van Staden returns to take on the rise of Zik
 o Makengele for the vacant EFC welterweight championship. Former champion 
 Igeu Kabesa goes head-to-head with Ashley Clavert in the ultimate all or n
 othing match-up and 10 more exciting bouts are set for EFC 93. Full fight 
 card at </span><a href="http://efcworldwide.com/" target="_blank" style="
 color: rgb(17\, 85\, 204)\; background-color: rgb(255\, 255\, 255)\;">efcw
 orldwide.com</a></p><p>Contact: <a href="mailto:info@efcworldwide.com" ta
 rget="_blank" style="color: rgb(17\, 85\, 204)\;">info@efcworldwide.com</a
 ></p><p>Website: <a href="http://www.efcworldwide.com/" target="_blank" s
 tyle="color: rgb(17\, 85\, 204)\;">www.efcworldwide.com</a></p><p><br></p>
 <p><span style="color: rgb(34\, 34\, 34)\; background-color: rgb(255\, 255
 \, 255)\;">*Fight card subject to change</span></p>
LOCATION:Unit 5 Cambridge Comercial Park\, 22 Witkoppen Rd\, Paulshof\, San
 dton\, 2191
SUMMARY:EFC 93
URL;VALUE=URI:https://efc.howler.co.za/efc93
END:VEVENT
END:VCALENDAR
