BEGIN:VCALENDAR
VERSION:2.0
PRODID:icalendar-ruby
CALSCALE:GREGORIAN
METHOD:PUBLISH
BEGIN:VEVENT
DTSTAMP:20260421T162119Z
UID:7bdaf6a7-92ae-4a6f-9aec-928f9bb0da82
DTSTART:20251204T150000
DTEND:20251204T200000
DESCRIPTION:<p>EFC 130 VIP invitation request. The EFC 130 bouts are taking
  place at The EFC Performance Institute in Johannesburg\, South Africa in 
 a private production facility. Please note that EFC130 is not a public eve
 nt and invitations to be part of the private production are limited and re
 served.</p><p>If you do not receive an official invitation to attend EFC 1
 30 as a guest within 72 hours of purchasing your EFC 130 VIP invitation re
 quest you will be refunded your purchase in full.</p><p>Access to the priv
 ate production is reserved and limited to EFC guests\, EFC media\, the EFC
  production team\, EFC athletes\, EFC partners and EFC Invested shareholde
 rs.<span style="background-color: rgb(255\, 255\, 255)\; color: rgb(34\, 3
 4\, 34)\;"> </span></p><p><br></p><p>Contact: <a href="mailto:info@efcwo
 rldwide.com" target="_blank" style="color: rgb(17\, 85\, 204)\;">info@efcw
 orldwide.com</a></p><p>Website: <a href="http://www.efcworldwide.com/" ta
 rget="_blank" style="color: rgb(17\, 85\, 204)\;">www.efcworldwide.com</a>
 </p><p><br></p><p><span style="background-color: rgb(255\, 255\, 255)\; co
 lor: rgb(34\, 34\, 34)\;">*Fight card subject to change</span></p>
LOCATION:Unit 5 Cambridge Comercial Park\, 22 Witkoppen Rd\, Paulshof\, San
 dton\, 2191
SUMMARY:EFC 130
URL;VALUE=URI:https://efc.howler.co.za/efc130
END:VEVENT
END:VCALENDAR
